BEGIN:VCALENDAR
VERSION:2.0
PRODID:-//Fully Fit Feb - ECPv3.9//NONSGML v1.0//EN
CALSCALE:GREGORIAN
METHOD:PUBLISH
X-WR-CALNAME:Fully Fit Feb
X-ORIGINAL-URL:http://www.fullyfitfeb.com.au
X-WR-CALDESC:Events for Fully Fit Feb
X-WR-TIMEZONE:Australia/Brisbane
BEGIN:VEVENT
DTSTART;VALUE=DATE:20160225
DTEND;VALUE=DATE:20160226
DTSTAMP:20210228T024821
CREATED:20160203T185401
LAST-MODIFIED:20160203T185401
UID:749-1456358400-1456444800@http://www.fullyfitfeb.com.au
SUMMARY:Riverlife Abseiling
DESCRIPTION:Ever wondered what the view is like from the cliff tops at Kangaroo Point? Even better\, ever wondered what the view is like from halfway up (or is that halfway down?).    Well here is your chance. Riverlife Brisbane are kindly offering 2 for 1 abseiling every Wednesday and Thursday during the month of Feb 2016. Why not grab a friend or two and pop on down to the Old Navel Stores\, Lower River Terrace and see the awesome team for some awesome fun!
URL:http://www.fullyfitfeb.com.au/event/riverlife-abseiling-7/
LOCATION:Naval Stores, Lower River Terrace, Kangaroo Point , Brisbane , 4169, Australia
END:VEVENT
BEGIN:VEVENT
DTSTART;VALUE=DATE-TIME:20160225T060000
DTEND;VALUE=DATE-TIME:20160225T070000
DTSTAMP:20210228T024821
CREATED:20160120T143357
LAST-MODIFIED:20160120T143357
UID:664-1456380000-1456383600@http://www.fullyfitfeb.com.au
SUMMARY:TOOWOOMBA - Splash Combat - Milne Bay
DESCRIPTION:Splash combat: a high-energy boxing style aqua class that shadows movements such as 'hooks'\, 'uppers'\, 'jabs' and kicks. This fast paced class focuses on the total body\, while utilising the natural resistance properties of water to increase overall muscular strength and endurance.
URL:http://www.fullyfitfeb.com.au/event/toowoomba-splash-combat-milne-bay-4/
LOCATION:Victoria St & Herries Street,,  Toowoomba , queensland, 4350, Australia
END:VEVENT
BEGIN:VEVENT
DTSTART;VALUE=DATE-TIME:20160225T090000
DTEND;VALUE=DATE-TIME:20160225T100000
DTSTAMP:20210228T024821
CREATED:20160112T162306
LAST-MODIFIED:20160112T162306
UID:645-1456390800-1456394400@http://www.fullyfitfeb.com.au
SUMMARY:Urban Rowing - Ergo Plus
DESCRIPTION:With more variety then the general Ergo Class\, Ergo Plus+ offers our members an interval style session\, with short sharp bursts on the ergo\, then over to wither the weights stations for a low repetition heavy weights circuit or onto the bootcamp workout for some more cardio high repetition exercises. Its generally 45 minutes in length\, but will get the heart pumping &amp; the muscles burning! Lots of fun.
URL:http://www.fullyfitfeb.com.au/event/urban-rowing-ergo-plus-4/
LOCATION:365 Montague Road, West End, Brisbane, Queensland, 4101, Australia
END:VEVENT
BEGIN:VEVENT
DTSTART;VALUE=DATE-TIME:20160225T180000
DTEND;VALUE=DATE-TIME:20160225T190000
DTSTAMP:20210228T024821
CREATED:20160120T161639
LAST-MODIFIED:20160120T161712
UID:679-1456423200-1456426800@http://www.fullyfitfeb.com.au
SUMMARY:TOOWOOMBA - RPM (bookings essential) - Willows
DESCRIPTION:A high intensity\, low impact class conducted in the comfort of an indoor cycle studio. Boost your cardio in an energetic and friendly environment\, suitable for all levels of fitness.    &nbsp;
URL:http://www.fullyfitfeb.com.au/event/toowoomba-rpm-bookings-essential-willows-2/
LOCATION:55-57 Kitchener Street,  Toowoomba , queensland, 4350, Australia
END:VEVENT
BEGIN:VEVENT
DTSTART;VALUE=DATE-TIME:20160225T180000
DTEND;VALUE=DATE-TIME:20160225T190000
DTSTAMP:20210228T024821
CREATED:20160127T115107
LAST-MODIFIED:20160127T115107
UID:718-1456423200-1456426800@http://www.fullyfitfeb.com.au
SUMMARY:TOOWOOMBA - Trampoline Park Fun - Kloud9ine
DESCRIPTION:Come fly with us! Toowoomba's only indoor trampoline park where you can literally jump off the walls!
URL:http://www.fullyfitfeb.com.au/event/toowoomba-trampoline-park-fun-kloud9ine-2/
LOCATION:Bernoth Centre, 663 Ruthven Street, South Toowoomba, Queensland, 4350, Australia
END:VEVENT
END:VCALENDAR