BEGIN:VCALENDAR
VERSION:2.0
PRODID:-//Fully Fit Feb - ECPv3.9//NONSGML v1.0//EN
CALSCALE:GREGORIAN
METHOD:PUBLISH
X-WR-CALNAME:Fully Fit Feb
X-ORIGINAL-URL:http://www.fullyfitfeb.com.au
X-WR-CALDESC:Events for Fully Fit Feb
X-WR-TIMEZONE:Australia/Brisbane
BEGIN:VEVENT
DTSTART;VALUE=DATE:20160224
DTEND;VALUE=DATE:20160225
DTSTAMP:20210228T024728
CREATED:20160203T184853
LAST-MODIFIED:20160203T184853
UID:747-1456272000-1456358400@http://www.fullyfitfeb.com.au
SUMMARY:Riverlife Abseiling
DESCRIPTION:Ever wondered what the view is like from the cliff tops at Kangaroo Point? Even better\, ever wondered what the view is like from halfway up (or is that halfway down?).    Well here is your chance. Riverlife Brisbane are kindly offering 2 for 1 abseiling every Wednesday and Thursday during the month of Feb 2016. Why not grab a friend or two and pop on down to the Old Navel Stores\, Lower River Terrace and see the awesome team for some awesome fun!
URL:http://www.fullyfitfeb.com.au/event/riverlife-abseiling-6/
LOCATION:Naval Stores, Lower River Terrace, Kangaroo Point , Brisbane , 4169, Australia
END:VEVENT
BEGIN:VEVENT
DTSTART;VALUE=DATE-TIME:20160224T054500
DTEND;VALUE=DATE-TIME:20160224T064500
DTSTAMP:20210228T024728
CREATED:20160127T120946
LAST-MODIFIED:20160127T120946
UID:732-1456292700-1456296300@http://www.fullyfitfeb.com.au
SUMMARY:Original Bootcamp - New Farm Park
DESCRIPTION:Start your morning with Staff Watkins and his sensational team in a fun and challenging workout at a sensational location on the River. Guaranteed to leave you wanting more which is great because Original Bootcamp is offering free training every Monday\, Tuesday and Wednesday mornings at New Farm Park during February 2016.
URL:http://www.fullyfitfeb.com.au/event/original-bootcamp-new-farm-park-10/
LOCATION:New Farm, Qld, 4006, Australia
END:VEVENT
BEGIN:VEVENT
DTSTART;VALUE=DATE-TIME:20160224T180000
DTEND;VALUE=DATE-TIME:20160224T190000
DTSTAMP:20210228T024728
CREATED:20160120T160655
LAST-MODIFIED:20160120T160655
UID:673-1456336800-1456340400@http://www.fullyfitfeb.com.au
SUMMARY:TOOWOOMBA - H20 - Milne Bay
DESCRIPTION:H2O H.I.I.T.: a high-intensity aqua class that utilises boxing movements\, body weight exercises as well as powerful and explosive movements. H.I.I.T. also includes a short\, sharp interval water workout that is designed to increase cardiovascular endurance while strengthening and toning muscles.
URL:http://www.fullyfitfeb.com.au/event/toowoomba-h20-milne-bay-2/
LOCATION:Victoria St & Herries Street,,  Toowoomba , queensland, 4350, Australia
END:VEVENT
BEGIN:VEVENT
DTSTART;VALUE=DATE-TIME:20160224T195000
DTEND;VALUE=DATE-TIME:20160224T205000
DTSTAMP:20210228T024728
CREATED:20160110T121137
LAST-MODIFIED:20160110T121137
UID:640-1456343400-1456347000@http://www.fullyfitfeb.com.au
SUMMARY:Deep Stretch Yoga - Holland Park
DESCRIPTION:If someone asks you where you are tight do you reply with ‘everywhere’? If the answer is yes (or you named more than one area) then Deep Stretch may be the answer to all your body’s prayers!  Traditionally known as Yin Yoga\, our Deep Stretch class focuses on long juicy stretches. Typically held for 2-5 minutes (or even longer for those stubborn areas) the poses that you’ll come across in a Deep Stretch class work on two levels. Like traditional yoga poses\, yin poses lengthen through the muscle fibres\, with the additional hold time allowing you to open up through the connective tissue (tendons and ligaments)\, leaving you with deep flexibility that will leave you the envy of gymnasts everywhere!  Classes typically focus on the tightest body parts – hips\, hamstrings\, quads\, backs and shoulders. We use a lot of props (read – a lot of time is spent laying on bolsters) which helps even the most inflexible of us to find those deep stretches\, and the more supple of us to take poses even deeper!
URL:http://www.fullyfitfeb.com.au/event/deep-stretch-yoga-holland-park-5/
LOCATION:Level 1, 967 Logan Road, Holland Park, Brisbane, Queensland, 4121, Australia
END:VEVENT
END:VCALENDAR