BEGIN:VCALENDAR
VERSION:2.0
PRODID:-//Fully Fit Feb - ECPv3.9//NONSGML v1.0//EN
CALSCALE:GREGORIAN
METHOD:PUBLISH
X-WR-CALNAME:Fully Fit Feb
X-ORIGINAL-URL:http://www.fullyfitfeb.com.au
X-WR-CALDESC:Events for Fully Fit Feb
X-WR-TIMEZONE:Australia/Brisbane
BEGIN:VEVENT
DTSTART;VALUE=DATE-TIME:20160223T060000
DTEND;VALUE=DATE-TIME:20160223T060000
DTSTAMP:20210228T024638
CREATED:20160120T143721
LAST-MODIFIED:20160120T143721
UID:666-1456207200-1456207200@http://www.fullyfitfeb.com.au
SUMMARY:TOOWOOMBA - Morning walk/run - Willows
DESCRIPTION:There isn't a better way to start the day than a morning walk/run at your own speed. Get the body moving and the mind engaged by participating in a fun\, social and healthy activity.
URL:http://www.fullyfitfeb.com.au/event/toowoomba-morning-walkrun-willows-2/
LOCATION:55-57 Kitchener Street,  Toowoomba , queensland, 4350, Australia
END:VEVENT
BEGIN:VEVENT
DTSTART;VALUE=DATE-TIME:20160223T100000
DTEND;VALUE=DATE-TIME:20160223T110000
DTSTAMP:20210228T024638
CREATED:20160120T144522
LAST-MODIFIED:20160120T144522
UID:668-1456221600-1456225200@http://www.fullyfitfeb.com.au
SUMMARY:Toowoomba - Water Synergy - Milne Bay
DESCRIPTION:Water synergy: a very gentle\, low-impact aqua class in our heated indoor pool\, aimed at improving mobility and strength. Ideal for those with joint problems\, restricted movements or recovering from injury\, surgery or illness.
URL:http://www.fullyfitfeb.com.au/event/toowoomba-water-synergy-milne-bay-3/
LOCATION:Victoria St & Herries Street,,  Toowoomba , queensland, 4350, Australia
END:VEVENT
BEGIN:VEVENT
DTSTART;VALUE=DATE-TIME:20160223T180000
DTEND;VALUE=DATE-TIME:20160223T190000
DTSTAMP:20210228T024638
CREATED:20160110T115239
LAST-MODIFIED:20160112T163317
UID:630-1456250400-1456254000@http://www.fullyfitfeb.com.au
SUMMARY:Pilates Class - Bookings essential
DESCRIPTION:Pilates\, is a system of movement based on coordination\, flexibility and strength all coming from stable posture and core.  The class is capped at 10people and is conducted by Accredited Exercise Physiologist and Pilates Instructor Sarah Savage.  This is a fantastic class for gaining awareness of your body\, improving the strength and range of all your movements and preparing for other athletic endeavours.
URL:http://www.fullyfitfeb.com.au/event/pilates-class-3/
LOCATION:154 Melbourne Street, South Brisbane, Brisbane, Queensland, 4101, Australia
END:VEVENT
END:VCALENDAR