BEGIN:VCALENDAR
VERSION:2.0
PRODID:-//Fully Fit Feb - ECPv3.9//NONSGML v1.0//EN
CALSCALE:GREGORIAN
METHOD:PUBLISH
X-WR-CALNAME:Fully Fit Feb
X-ORIGINAL-URL:http://www.fullyfitfeb.com.au
X-WR-CALDESC:Events for Fully Fit Feb
X-WR-TIMEZONE:Australia/Brisbane
BEGIN:VEVENT
DTSTART;VALUE=DATE-TIME:20160221T080000
DTEND;VALUE=DATE-TIME:20160221T100000
DTSTAMP:20210228T024504
CREATED:20151115T160706
LAST-MODIFIED:20160212T172533
UID:604-1456041600-1456048800@http://www.fullyfitfeb.com.au
SUMMARY:Fully Fit Feb Tennis
DESCRIPTION:It's on again. Join us at Queensland Tennis Centre for another fantastic morning of Tennis Activities.    Another great event included in the value packed registration price of just $28.
URL:http://www.fullyfitfeb.com.au/event/fully-fit-feb-tennis-2/
LOCATION:190 King Arthur Terrace, Tennyson, 4105, Australia
ATTACH;FMTTYPE=image/jpeg:http://www.fullyfitfeb.com.au/wp-content/uploads/2015/11/1514944_10153169565888554_3990680536248076943_n.jpg
END:VEVENT
BEGIN:VEVENT
DTSTART;VALUE=DATE-TIME:20160221T090000
DTEND;VALUE=DATE-TIME:20160221T100000
DTSTAMP:20210228T024504
CREATED:20160122T124412
LAST-MODIFIED:20160127T082438
UID:702-1456045200-1456048800@http://www.fullyfitfeb.com.au
SUMMARY:TOOWOOMBA - Yoga - Willows
DESCRIPTION:Yoga is a great way to work on your flexibility and strength. Yoga poses work by stretching your muscles. They can help you move better and feel less stiff or tired.    At any level of yoga\, you’ll probably start to notice benefits soon. In one study\, people improved their flexibility by up to 35% after only 8 weeks of yoga (American Council on Exercise Yoga Study).    But even less vigorous styles of yoga\, such as hatha\, can provide strength and endurance benefits.    - See more at: http://www.willowshealth.com.au/blog/index.php/2014/11/have-you-experienced-the-benefits-of-yoga/#sthash.83zIFaeS.dpuf
URL:http://www.fullyfitfeb.com.au/event/toowoomba-yoga-willows-3/
LOCATION:55-57 Kitchener Street,  Toowoomba , queensland, 4350, Australia
END:VEVENT
BEGIN:VEVENT
DTSTART;VALUE=DATE-TIME:20160221T161500
DTEND;VALUE=DATE-TIME:20160221T170000
DTSTAMP:20210228T024504
CREATED:20160110T120300
LAST-MODIFIED:20160110T120300
UID:635-1456071300-1456074000@http://www.fullyfitfeb.com.au
SUMMARY:Deep Stretch Yoga - Brisbane CBD
DESCRIPTION:If someone asks you where you are tight do you reply with ‘everywhere’? If the answer is yes (or you named more than one area) then Deep Stretch may be the answer to all your body’s prayers!  Traditionally known as Yin Yoga\, our Deep Stretch class focuses on long juicy stretches. Typically held for 2-5 minutes (or even longer for those stubborn areas) the poses that you’ll come across in a Deep Stretch class work on two levels. Like traditional yoga poses\, yin poses lengthen through the muscle fibres\, with the additional hold time allowing you to open up through the connective tissue (tendons and ligaments)\, leaving you with deep flexibility that will leave you the envy of gymnasts everywhere!  Classes typically focus on the tightest body parts – hips\, hamstrings\, quads\, backs and shoulders. We use a lot of props (read – a lot of time is spent laying on bolsters) which helps even the most inflexible of us to find those deep stretches\, and the more supple of us to take poses even deeper!
URL:http://www.fullyfitfeb.com.au/event/deep-stretch-yoga-brisbane-cbd-2/
LOCATION:Level 1, 132 Albert Street, Brisbane, Queensland, 4000, Australia
END:VEVENT
END:VCALENDAR