BEGIN:VCALENDAR
VERSION:2.0
PRODID:-//Fully Fit Feb - ECPv3.9//NONSGML v1.0//EN
CALSCALE:GREGORIAN
METHOD:PUBLISH
X-WR-CALNAME:Fully Fit Feb
X-ORIGINAL-URL:http://www.fullyfitfeb.com.au
X-WR-CALDESC:Events for Fully Fit Feb
X-WR-TIMEZONE:Australia/Brisbane
BEGIN:VEVENT
DTSTART;VALUE=DATE-TIME:20160220T070000
DTEND;VALUE=DATE-TIME:20160220T200000
DTSTAMP:20210228T024413
CREATED:20160120T162857
LAST-MODIFIED:20160120T162857
UID:685-1455951600-1455998400@http://www.fullyfitfeb.com.au
SUMMARY:TOOWOOMBA - Family Friendly Bootcamp - Clewley Park
DESCRIPTION:A fun and energetic workout for the whole family. This activity is designed to be completely inclusive regardless of age our ability. You are guaranteed to work up a sweat and a smile!    &nbsp;
URL:http://www.fullyfitfeb.com.au/event/toowoomba-family-friendly-bootcamp-clewley-park-2/
LOCATION:Water Street, Toowoomba, Queensland, 4350, Australia
END:VEVENT
BEGIN:VEVENT
DTSTART;VALUE=DATE-TIME:20160220T081500
DTEND;VALUE=DATE-TIME:20160220T091500
DTSTAMP:20210228T024413
CREATED:20160110T114108
LAST-MODIFIED:20160127T220220
UID:622-1455956100-1455959700@http://www.fullyfitfeb.com.au
SUMMARY:BRISBANE - Fun and Friendly Bootcamp
DESCRIPTION:A group exercise session conducted by Accredited Exercise Physiologist - Tim Douge  Designed to be inclusive for all ages and all levels of fitness.  No experience required\, just bring a towel and water bottle.  Guaranteed to show / teach you something new and introduce new friends.
URL:http://www.fullyfitfeb.com.au/event/fun-and-friendly-bootcamp-2/
LOCATION:Queensland
END:VEVENT
BEGIN:VEVENT
DTSTART;VALUE=DATE-TIME:20160220T150000
DTEND;VALUE=DATE-TIME:20160220T160000
DTSTAMP:20210228T024413
CREATED:20160122T125408
LAST-MODIFIED:20160127T094922
UID:706-1455980400-1455984000@http://www.fullyfitfeb.com.au
SUMMARY:TOOWOOMBA - Aussie Hoops
DESCRIPTION:Aussie Hoops is a fun and innovative program which introduces 5-10 year old kids to the game of basketball\, with an emphasis on fun!    The Aussie Hoops program uses a “game sense” approach through various activities and games\, designed to emulate the experience of basketball. Aussie Hoops is for boys and girls between the ages of 5-10 years\, of all abilities (including those with physical and development impairments).
URL:http://www.fullyfitfeb.com.au/event/toowoomba-aussie-hoops/
LOCATION:129 West Stree, Toowoomba, Queensland, 4350, Australia
END:VEVENT
END:VCALENDAR