BEGIN:VCALENDAR
VERSION:2.0
PRODID:-//Fully Fit Feb - ECPv3.9//NONSGML v1.0//EN
CALSCALE:GREGORIAN
METHOD:PUBLISH
X-WR-CALNAME:Fully Fit Feb
X-ORIGINAL-URL:http://www.fullyfitfeb.com.au
X-WR-CALDESC:Events for Fully Fit Feb
X-WR-TIMEZONE:Australia/Brisbane
BEGIN:VEVENT
DTSTART;VALUE=DATE-TIME:20160219T054500
DTEND;VALUE=DATE-TIME:20160219T064500
DTSTAMP:20210228T024320
CREATED:20160127T120513
LAST-MODIFIED:20160127T220635
UID:728-1455860700-1455864300@http://www.fullyfitfeb.com.au
SUMMARY:Original Bootcamp - New Farm Park
DESCRIPTION:Start your morning with Staff Watkins and his sensational team in a fun and challenging workout at a sensational location on the River. Guaranteed to leave you wanting more which is great because Original Bootcamp is offering free training every Monday\, Wednesday and Friday mornings at New Farm Park during February 2016.
URL:http://www.fullyfitfeb.com.au/event/original-bootcamp-new-farm-park-7/
LOCATION:New Farm, Qld, 4006, Australia
END:VEVENT
BEGIN:VEVENT
DTSTART;VALUE=DATE-TIME:20160219T061500
DTEND;VALUE=DATE-TIME:20160219T071500
DTSTAMP:20210228T024320
CREATED:20160112T162716
LAST-MODIFIED:20160112T162716
UID:648-1455862500-1455866100@http://www.fullyfitfeb.com.au
SUMMARY:Urban Rowing - Ergo Plus
DESCRIPTION:With more variety then the general Ergo Class\, Ergo Plus+ offers our members an interval style session\, with short sharp bursts on the ergo\, then over to wither the weights stations for a low repetition heavy weights circuit or onto the bootcamp workout for some more cardio high repetition exercises. Its generally 45 minutes in length\, but will get the heart pumping &amp; the muscles burning! Lots of fun.
URL:http://www.fullyfitfeb.com.au/event/urban-rowing-ergo-plus-7/
LOCATION:365 Montague Road, West End, Brisbane, Queensland, 4101, Australia
END:VEVENT
BEGIN:VEVENT
DTSTART;VALUE=DATE-TIME:20160219T061500
DTEND;VALUE=DATE-TIME:20160219T071500
DTSTAMP:20210228T024320
CREATED:20160112T162829
LAST-MODIFIED:20160112T162829
UID:649-1455862500-1455866100@http://www.fullyfitfeb.com.au
SUMMARY:Urban Rowing - Ergo Plus
DESCRIPTION:With more variety then the general Ergo Class\, Ergo Plus+ offers our members an interval style session\, with short sharp bursts on the ergo\, then over to wither the weights stations for a low repetition heavy weights circuit or onto the bootcamp workout for some more cardio high repetition exercises. Its generally 45 minutes in length\, but will get the heart pumping &amp; the muscles burning! Lots of fun.
URL:http://www.fullyfitfeb.com.au/event/urban-rowing-ergo-plus-8/
LOCATION:365 Montague Road, West End, Brisbane, Queensland, 4101, Australia
END:VEVENT
BEGIN:VEVENT
DTSTART;VALUE=DATE-TIME:20160219T083000
DTEND;VALUE=DATE-TIME:20160219T093000
DTSTAMP:20210228T024320
CREATED:20160120T161006
LAST-MODIFIED:20160120T161006
UID:675-1455870600-1455874200@http://www.fullyfitfeb.com.au
SUMMARY:TOOWOOMBA - Splash Combat - Milne Bay
DESCRIPTION:Splash combat: a high-energy boxing style aqua class that shadows movements such as 'hooks'\, 'uppers'\, 'jabs' and kicks. This fast paced class focuses on the total body\, while utilising the natural resistance properties of water to increase overall muscular strength and endurance.
URL:http://www.fullyfitfeb.com.au/event/toowoomba-splash-combat-milne-bay-6/
LOCATION:Victoria St & Herries Street,,  Toowoomba , queensland, 4350, Australia
END:VEVENT
END:VCALENDAR